View In:
ArcGIS JavaScript
ArcGIS Online Map Viewer
ArcGIS Earth
Service Description: BilaspurForest/Area1Orthomosaic_Clip
Name: BilaspurForest/Area1Orthomosaic_Clip
Description:
Single Fused Map Cache: false
Extent:
XMin: 667939.4129996484
YMin: 2517611.0659996485
XMax: 669319.4229996484
YMax: 2518499.6944996486
Spatial Reference: 32644
(32644)
LatestVCSWkid(0)
Initial Extent:
XMin: 667939.4129996484
YMin: 2517611.0659996485
XMax: 669319.4229996484
YMax: 2518499.6944996486
Spatial Reference: 32644
(32644)
LatestVCSWkid(0)
Full Extent:
XMin: 667939.4129996484
YMin: 2517611.0659996485
XMax: 669319.4229996484
YMax: 2518499.6944996486
Spatial Reference: 32644
(32644)
LatestVCSWkid(0)
Pixel Size X: 0.0295000000000002
Pixel Size Y: 0.029500000000003586
Band Count: 4
Pixel Type: U8
RasterFunction Infos: {"rasterFunctionInfos": [{
"name": "None",
"description": "",
"help": ""
}]}
Mensuration Capabilities: Basic
Inspection Capabilities:
Has Histograms: true
Has Colormap: false
Has Multi Dimensions : false
Rendering Rule:
Min Scale: 18018.522385157612
Max Scale: 1126.1576490723508
Min LOD: 14
Max LOD: 18
Copyright Text:
Service Data Type: esriImageServiceDataTypeProcessed
Min Values: 5, 18, 1, 255
Max Values: 254, 254, 254, 255
Mean Values: 113.85668976788075, 110.49750764861709, 86.63859094780967, 255
Standard Deviation Values: 38.852035866068164, 30.23282499278106, 22.440983444247806, 0
Object ID Field:
Fields:
None
Default Mosaic Method: Center
Allowed Mosaic Methods:
SortField:
SortValue: null
Mosaic Operator: First
Default Compression Quality: 75
Default Resampling Method: Bilinear
Max Record Count: null
Max Image Height: 4100
Max Image Width: 15000
Max Download Image Count: null
Max Mosaic Image Count: null
Allow Raster Function: true
Allow Copy: true
Allow Analysis: true
Allow Compute TiePoints: false
Supports Statistics: false
Supports Advanced Queries: false
Use StandardizedQueries: true
Raster Type Infos:
Name: Raster Dataset
Description: Supports all ArcGIS Raster Datasets
Help:
Has Raster Attribute Table: false
Edit Fields Info: null
Ownership Based AccessControl For Rasters: null
Child Resources:
Info
Histograms
Statistics
Key Properties
Legend
Raster Function Infos
Supported Operations:
Export Image
Identify
Measure
Compute Histograms
Compute Statistics Histograms
Get Samples
Compute Class Statistics
Query Boundary
Compute Pixel Location
Compute Angles
Validate
Project