{
 "currentVersion": 11.5,
 "serviceDescription": "BilaspurForest/Area1Orthomosaic_Clip",
 "serviceItemId": "569bbe371bd949199028824ff99c0b33",
 "name": "BilaspurForest/Area1Orthomosaic_Clip",
 "description": "",
 "extent": {
  "xmin": 667939.4129996484,
  "ymin": 2517611.0659996485,
  "xmax": 669319.4229996484,
  "ymax": 2518499.6944996486,
  "spatialReference": {
   "wkid": 32644,
   "latestWkid": 32644
  }
 },
 "initialExtent": {
  "xmin": 667939.4129996484,
  "ymin": 2517611.0659996485,
  "xmax": 669319.4229996484,
  "ymax": 2518499.6944996486,
  "spatialReference": {
   "wkid": 32644,
   "latestWkid": 32644
  }
 },
 "fullExtent": {
  "xmin": 667939.4129996484,
  "ymin": 2517611.0659996485,
  "xmax": 669319.4229996484,
  "ymax": 2518499.6944996486,
  "spatialReference": {
   "wkid": 32644,
   "latestWkid": 32644
  }
 },
 "sortableFields": "",
 "bandCount": 4,
 "pixelType": "U8",
 "minValues": [
  5,
  18,
  1,
  255
 ],
 "maxValues": [
  254,
  254,
  254,
  255
 ],
 "meanValues": [
  113.85668976788075,
  110.49750764861709,
  86.63859094780967,
  255
 ],
 "stdvValues": [
  38.852035866068164,
  30.23282499278106,
  22.440983444247806,
  0
 ],
 "serviceProperties": "Center<\/MosaicMethod>First<\/MosaicOperator>true<\/SortAscending><\/LockImageID><\/TileOrderField>0<\/TileOrderBase>0.000000<\/AvgImageSpacingX>0.000000<\/AvgImageSpacingY>0.0<\/ViewPointX>0.0<\/ViewPointY>0.0<\/ViewPointDefShiftX>0.0<\/ViewPointDefShiftY>None<\/CompressionMethod>75<\/CompressionQuality>0.010000<\/CompressionTolerance>Bilinear<\/SamplingMethod><\/ImageServiceProperties><\/ImageServer>",
 "allowedFields": "",
 "hasMultidimensions": false,
 "pixelSizeX": 0.0295000000000002,
 "pixelSizeY": 0.029500000000003586,
 "meanPixelSize": 0.029500000000001893,
 "datasetFormat": "FGDBR",
 "uncompressedSize": 5636615760,
 "blockWidth": 128,
 "blockHeight": 128,
 "compressionType": "LZ77",
 "bandNames": [
  "Band_1",
  "Band_2",
  "Band_3",
  "Band_4"
 ],
 "allowCopy": true,
 "allowAnalysis": true,
 "itemAccess": false,
 "inspectionCapabilities": "",
 "minPixelSize": 0,
 "maxPixelSize": 0,
 "copyrightText": "",
 "serviceDataType": "esriImageServiceDataTypeProcessed",
 "serviceSourceType": "esriImageServiceSourceTypeDataset",
 "objectIdField": "",
 "fields": [],
 "capabilities": "Image,Metadata,Mensuration",
 "defaultMosaicMethod": "Center",
 "allowedMosaicMethods": "",
 "sortField": "",
 "sortValue": null,
 "sortAscending": true,
 "mosaicOperator": "First",
 "defaultCompressionQuality": 75,
 "defaultResamplingMethod": "Bilinear",
 "maxImageHeight": 4100,
 "maxImageWidth": 15000,
 "allowRasterFunction": true,
 "rasterFunctionInfos": [
  {
   "name": "None",
   "description": "",
   "help": ""
  }
 ],
 "rasterTypeInfos": [
  {
   "name": "Raster Dataset",
   "description": "Supports all ArcGIS Raster Datasets",
   "help": ""
  }
 ],
 "mensurationCapabilities": "Basic",
 "hasHistograms": true,
 "hasColormap": false,
 "hasRasterAttributeTable": false,
 "minScale": 18018.522385157612,
 "maxScale": 1126.1576490723508,
 "minLOD": 14,
 "maxLOD": 18,
 "exportTilesAllowed": false,
 "supportsStatistics": false,
 "supportsAdvancedQueries": false,
 "editFieldsInfo": null,
 "ownershipBasedAccessControlForRasters": null,
 "allowComputeTiePoints": false,
 "useStandardizedQueries": true,
 "advancedQueryCapabilities": {
  "useStandardizedQueries": true,
  "supportsStatistics": false,
  "supportsOrderBy": false,
  "supportsDistinct": false,
  "supportsPagination": false
 },
 "spatialReference": {
  "wkid": 32644,
  "latestWkid": 32644
 }
}
